BEGIN:VCALENDAR
VERSION:2.0
PRODID:-//Saperavi Social - ECPv6.15.17//NONSGML v1.0//EN
CALSCALE:GREGORIAN
METHOD:PUBLISH
X-WR-CALNAME:Saperavi Social
X-ORIGINAL-URL:https://saperavisocial.co.uk
X-WR-CALDESC:Events for Saperavi Social
REFRESH-INTERVAL;VALUE=DURATION:PT1H
X-Robots-Tag:noindex
X-PUBLISHED-TTL:PT1H
BEGIN:VTIMEZONE
TZID:UTC
BEGIN:STANDARD
TZOFFSETFROM:+0000
TZOFFSETTO:+0000
TZNAME:UTC
DTSTART:20240101T000000
END:STANDARD
END:VTIMEZONE
BEGIN:VEVENT
DTSTART;TZID=UTC:20250430T000000
DTEND;TZID=UTC:20250430T000000
DTSTAMP:20260421T152823
CREATED:20250211T082757Z
LAST-MODIFIED:20250211T160132Z
UID:5976-1745971200-1745971200@saperavisocial.co.uk
SUMMARY:Tasting 4
DESCRIPTION:Lorem gravida nibh vel veliauctor aliquenean sollicitudin\, lorem quis bibendum auctor\, nisi elit consequat ipsutis sem nibh id elit. Duis sed odio sit amet nibh vulputate cursus a sit amet mauris. Morbi accumsan ipsum velit. Nam nec tellus a odio tincidunt auctor a ornare odio. Sed non mauris vitae erat consequat auctor eu in elit. Class aptent taciti sociosqu ad litora torquent per conubia nostra\, per inceptos himenaeos. Mauris in erat justo. Nullam ac urnamiumimus felis dapibus sit amet. Sed non neque elit. Lorem gravida nibh vel veliauctor aliquenean sollicitudin\, lorem quis auctor. \n\n\n\nBook Now
URL:https://saperavisocial.co.uk/tasting/tasting-4/
CATEGORIES:wine_testing
ATTACH;FMTTYPE=image/jpeg:https://saperavisocial.co.uk/wp-content/uploads/2024/09/female-african-american-speaker-giving-presentation-hall-university-workshop_155003-3579.jpg
END:VEVENT
BEGIN:VEVENT
DTSTART;TZID=UTC:20250331T000000
DTEND;TZID=UTC:20250331T000000
DTSTAMP:20260421T152823
CREATED:20250211T082742Z
LAST-MODIFIED:20250211T160128Z
UID:5974-1743379200-1743379200@saperavisocial.co.uk
SUMMARY:Tasting 3
DESCRIPTION:Lorem gravida nibh vel veliauctor aliquenean sollicitudin\, lorem quis bibendum auctor\, nisi elit consequat ipsutis sem nibh id elit. Duis sed odio sit amet nibh vulputate cursus a sit amet mauris. Morbi accumsan ipsum velit. Nam nec tellus a odio tincidunt auctor a ornare odio. Sed non mauris vitae erat consequat auctor eu in elit. Class aptent taciti sociosqu ad litora torquent per conubia nostra\, per inceptos himenaeos. Mauris in erat justo. Nullam ac urnamiumimus felis dapibus sit amet. Sed non neque elit. Lorem gravida nibh vel veliauctor aliquenean sollicitudin\, lorem quis auctor. \n\n\n\nBook Now
URL:https://saperavisocial.co.uk/tasting/tasting-3/
CATEGORIES:wine_testing
ATTACH;FMTTYPE=image/jpeg:https://saperavisocial.co.uk/wp-content/uploads/2024/09/group-young-people-are-looking-map-where-they-are-while-walking-autumn-forest_613910-15159.jpg
END:VEVENT
BEGIN:VEVENT
DTSTART;TZID=UTC:20250331T000000
DTEND;TZID=UTC:20250331T000000
DTSTAMP:20260421T152823
CREATED:20250211T082717Z
LAST-MODIFIED:20250211T160123Z
UID:5971-1743379200-1743379200@saperavisocial.co.uk
SUMMARY:Tasting 2
DESCRIPTION:Lorem gravida nibh vel veliauctor aliquenean sollicitudin\, lorem quis bibendum auctor\, nisi elit consequat ipsutis sem nibh id elit. Duis sed odio sit amet nibh vulputate cursus a sit amet mauris. Morbi accumsan ipsum velit. Nam nec tellus a odio tincidunt auctor a ornare odio. Sed non mauris vitae erat consequat auctor eu in elit. Class aptent taciti sociosqu ad litora torquent per conubia nostra\, per inceptos himenaeos. Mauris in erat justo. Nullam ac urnamiumimus felis dapibus sit amet. Sed non neque elit. Lorem gravida nibh vel veliauctor aliquenean sollicitudin\, lorem quis auctor. \n\n\n\nBook Now
URL:https://saperavisocial.co.uk/tasting/tsting-2/
CATEGORIES:wine_testing
ATTACH;FMTTYPE=image/jpeg:https://saperavisocial.co.uk/wp-content/uploads/2024/09/yes_53876-47102.jpg
END:VEVENT
BEGIN:VEVENT
DTSTART;TZID=UTC:20250331T000000
DTEND;TZID=UTC:20250331T000000
DTSTAMP:20260421T152823
CREATED:20240902T094005Z
LAST-MODIFIED:20250211T160118Z
UID:5271-1743379200-1743379200@saperavisocial.co.uk
SUMMARY:Tasting 1
DESCRIPTION:Lorem gravida nibh vel veliauctor aliquenean sollicitudin\, lorem quis bibendum auctor\, nisi elit consequat ipsutis sem nibh id elit. Duis sed odio sit amet nibh vulputate cursus a sit amet mauris. Morbi accumsan ipsum velit. Nam nec tellus a odio tincidunt auctor a ornare odio. Sed non mauris vitae erat consequat auctor eu in elit. Class aptent taciti sociosqu ad litora torquent per conubia nostra\, per inceptos himenaeos. Mauris in erat justo. Nullam ac urnamiumimus felis dapibus sit amet. Sed non neque elit. Lorem gravida nibh vel veliauctor aliquenean sollicitudin\, lorem quis auctor. \n \n\n\nBook Now
URL:https://saperavisocial.co.uk/tasting/testing-1/
CATEGORIES:wine_testing
ATTACH;FMTTYPE=image/jpeg:https://saperavisocial.co.uk/wp-content/uploads/2024/09/speaker-business-meeting-conference-hall_155003-12698.jpg
END:VEVENT
END:VCALENDAR